BEGIN:VCALENDAR
VERSION:2.0
PRODID:-//Squarespace Inc/Squarespace 6//v6//EN
BEGIN:VEVENT
UID:5def16df9fcc7715ba6bc354@squarespace.com
DTSTAMP:20200214T064052Z
DTSTART:20200301T170000Z
DTEND:20200301T220000Z
SUMMARY:Pan Arcadian Association Annual BBQ
END:VEVENT
END:VCALENDAR
